BEGIN:VCALENDAR
VERSION:2.0
PRODID:-//Christ the King Fellowship - ECPv5.16.3.1//NONSGML v1.0//EN
CALSCALE:GREGORIAN
METHOD:PUBLISH
X-WR-CALNAME:Christ the King Fellowship
X-ORIGINAL-URL:http://ctkspencer.org
X-WR-CALDESC:Events for Christ the King Fellowship
BEGIN:VTIMEZONE
TZID:UTC
BEGIN:STANDARD
TZOFFSETFROM:+0000
TZOFFSETTO:+0000
TZNAME:UTC
DTSTART:20180101T000000
END:STANDARD
END:VTIMEZONE
BEGIN:VEVENT
DTSTART;TZID=UTC:20180226T180000
DTEND;TZID=UTC:20180226T190000
DTSTAMP:20260420T160353
CREATED:20171126T001034Z
LAST-MODIFIED:20171126T001034Z
UID:244-1519668000-1519671600@ctkspencer.org
SUMMARY:AA (building use)
DESCRIPTION:AA meets in the basement of the Church.  It is an open meeting.  All are welcome. \nhttps://www.aa.org/
URL:http://ctkspencer.org/event/aa-building-use-16/
END:VEVENT
END:VCALENDAR