BEGIN:VCALENDAR
VERSION:2.0
PRODID:-//Christ the King Fellowship - ECPv5.16.3.1//NONSGML v1.0//EN
CALSCALE:GREGORIAN
METHOD:PUBLISH
X-WR-CALNAME:Christ the King Fellowship
X-ORIGINAL-URL:http://ctkspencer.org
X-WR-CALDESC:Events for Christ the King Fellowship
BEGIN:VTIMEZONE
TZID:UTC
BEGIN:STANDARD
TZOFFSETFROM:+0000
TZOFFSETTO:+0000
TZNAME:UTC
DTSTART:20180101T000000
END:STANDARD
END:VTIMEZONE
BEGIN:VEVENT
DTSTART;TZID=UTC:20180222T190000
DTEND;TZID=UTC:20180222T200000
DTSTAMP:20260420T173012
CREATED:20171204T005944Z
LAST-MODIFIED:20171204T005944Z
UID:328-1519326000-1519329600@ctkspencer.org
SUMMARY:Choir Rehearsal
DESCRIPTION:7PM sharp in the sanctuary — come out to join your voice with a most heavenly chorus!  (And some laughter too!)
URL:http://ctkspencer.org/event/choir-rehearsal-10/
END:VEVENT
END:VCALENDAR