BEGIN:VCALENDAR
VERSION:2.0
PRODID:-//Christ the King Fellowship - ECPv5.16.3.1//NONSGML v1.0//EN
CALSCALE:GREGORIAN
METHOD:PUBLISH
X-WR-CALNAME:Christ the King Fellowship
X-ORIGINAL-URL:http://ctkspencer.org
X-WR-CALDESC:Events for Christ the King Fellowship
BEGIN:VTIMEZONE
TZID:America/New_York
BEGIN:DAYLIGHT
TZOFFSETFROM:-0500
TZOFFSETTO:-0400
TZNAME:EDT
DTSTART:20170312T070000
END:DAYLIGHT
BEGIN:STANDARD
TZOFFSETFROM:-0400
TZOFFSETTO:-0500
TZNAME:EST
DTSTART:20171105T060000
END:STANDARD
END:VTIMEZONE
BEGIN:VEVENT
DTSTART;TZID=America/New_York:20170910T100000
DTEND;TZID=America/New_York:20170910T110000
DTSTAMP:20260421T150717
CREATED:20170829T084336Z
LAST-MODIFIED:20170829T084336Z
UID:93-1505037600-1505041200@ctkspencer.org
SUMMARY:Church Brunch - 10AM
DESCRIPTION:Join us for a fabulous fellowship brunch as we celebrate the end of summer and the beginning of the new school year!  We are EXCITED to break bread together!  Worship begins at 11AM!
URL:http://ctkspencer.org/event/church-brunch-10am/
LOCATION:Christ the King Fellowship Presbyterian Church\, 75 North Main Street\, Spencer\, NY\, 14883
END:VEVENT
END:VCALENDAR