BEGIN:VCALENDAR
VERSION:2.0
PRODID:-//Christ the King Fellowship - ECPv5.16.3.1//NONSGML v1.0//EN
CALSCALE:GREGORIAN
METHOD:PUBLISH
X-WR-CALNAME:Christ the King Fellowship
X-ORIGINAL-URL:http://ctkspencer.org
X-WR-CALDESC:Events for Christ the King Fellowship
BEGIN:VTIMEZONE
TZID:UTC
BEGIN:STANDARD
TZOFFSETFROM:+0000
TZOFFSETTO:+0000
TZNAME:UTC
DTSTART:20180101T000000
END:STANDARD
END:VTIMEZONE
BEGIN:VEVENT
DTSTART;VALUE=DATE:20180115
DTEND;VALUE=DATE:20180116
DTSTAMP:20260421T071425
CREATED:20171204T010430Z
LAST-MODIFIED:20171204T010430Z
UID:334-1515974400-1516060799@ctkspencer.org
SUMMARY:Church Closed (except building use) - No Pastor's Hours (MLK Jr. Day)
DESCRIPTION:
URL:http://ctkspencer.org/event/church-closed-except-building-use-no-pastors-hours-mlk-jr-day/
END:VEVENT
END:VCALENDAR