BEGIN:VCALENDAR
VERSION:2.0
PRODID:-//Christ the King Fellowship - ECPv5.16.3.1//NONSGML v1.0//EN
CALSCALE:GREGORIAN
METHOD:PUBLISH
X-WR-CALNAME:Christ the King Fellowship
X-ORIGINAL-URL:http://ctkspencer.org
X-WR-CALDESC:Events for Christ the King Fellowship
BEGIN:VTIMEZONE
TZID:UTC
BEGIN:STANDARD
TZOFFSETFROM:+0000
TZOFFSETTO:+0000
TZNAME:UTC
DTSTART:20180101T000000
END:STANDARD
END:VTIMEZONE
BEGIN:VEVENT
DTSTART;VALUE=DATE:20180219
DTEND;VALUE=DATE:20180220
DTSTAMP:20260421T001852
CREATED:20171204T010511Z
LAST-MODIFIED:20171204T010511Z
UID:336-1518998400-1519084799@ctkspencer.org
SUMMARY:Church Closed (except building use) - No Pastor's Hours (President's Day)
DESCRIPTION:
URL:http://ctkspencer.org/event/church-closed-except-building-use-no-pastors-hours-presidents-day/
END:VEVENT
END:VCALENDAR