BEGIN:VCALENDAR
VERSION:2.0
PRODID:-//Christ the King Fellowship - ECPv5.16.3.1//NONSGML v1.0//EN
CALSCALE:GREGORIAN
METHOD:PUBLISH
X-WR-CALNAME:Christ the King Fellowship
X-ORIGINAL-URL:http://ctkspencer.org
X-WR-CALDESC:Events for Christ the King Fellowship
BEGIN:VTIMEZONE
TZID:UTC
BEGIN:STANDARD
TZOFFSETFROM:+0000
TZOFFSETTO:+0000
TZNAME:UTC
DTSTART:20170101T000000
END:STANDARD
END:VTIMEZONE
BEGIN:VEVENT
DTSTART;VALUE=DATE:20171225
DTEND;VALUE=DATE:20171227
DTSTAMP:20260421T071512
CREATED:20171204T010314Z
LAST-MODIFIED:20171204T010314Z
UID:332-1514160000-1514332799@ctkspencer.org
SUMMARY:Church Closed (except for building use) - No Pastor's Hours (Merry Christmas!)
DESCRIPTION:
URL:http://ctkspencer.org/event/church-closed-except-for-building-use-no-pastors-hours-merry-christmas/
END:VEVENT
END:VCALENDAR