BEGIN:VCALENDAR
VERSION:2.0
PRODID:-//Christ the King Fellowship - ECPv5.16.3.1//NONSGML v1.0//EN
CALSCALE:GREGORIAN
METHOD:PUBLISH
X-WR-CALNAME:Christ the King Fellowship
X-ORIGINAL-URL:http://ctkspencer.org
X-WR-CALDESC:Events for Christ the King Fellowship
BEGIN:VTIMEZONE
TZID:UTC
BEGIN:STANDARD
TZOFFSETFROM:+0000
TZOFFSETTO:+0000
TZNAME:UTC
DTSTART:20170101T000000
END:STANDARD
END:VTIMEZONE
BEGIN:VEVENT
DTSTART;TZID=UTC:20171203T183000
DTEND;TZID=UTC:20171203T203000
DTSTAMP:20260421T085140
CREATED:20171126T004751Z
LAST-MODIFIED:20171126T004751Z
UID:295-1512325800-1512333000@ctkspencer.org
SUMMARY:Community Chorus & Cookies
DESCRIPTION:Come out for the beautiful annual event!  There will be lots of fantastic music to enjoy and after the singing there will be delicious cookies!  The event begins at 6:30PM!  See you there on this first Sunday of Advent!  Blessings!
URL:http://ctkspencer.org/event/community-chorus-cookies/
END:VEVENT
END:VCALENDAR