BEGIN:VCALENDAR
VERSION:2.0
PRODID:-//Christ the King Fellowship - ECPv5.16.3.1//NONSGML v1.0//EN
CALSCALE:GREGORIAN
METHOD:PUBLISH
X-WR-CALNAME:Christ the King Fellowship
X-ORIGINAL-URL:http://ctkspencer.org
X-WR-CALDESC:Events for Christ the King Fellowship
BEGIN:VTIMEZONE
TZID:UTC
BEGIN:STANDARD
TZOFFSETFROM:+0000
TZOFFSETTO:+0000
TZNAME:UTC
DTSTART:20170101T000000
END:STANDARD
END:VTIMEZONE
BEGIN:VEVENT
DTSTART;VALUE=DATE:20170904
DTEND;VALUE=DATE:20170905
DTSTAMP:20260421T115450
CREATED:20170829T084436Z
LAST-MODIFIED:20170829T084436Z
UID:101-1504483200-1504569599@ctkspencer.org
SUMMARY:Labor Day (church office closed)
DESCRIPTION:
URL:http://ctkspencer.org/event/labor-day-church-office-closed/
END:VEVENT
END:VCALENDAR