BEGIN:VCALENDAR
VERSION:2.0
PRODID:-//Christ the King Fellowship - ECPv5.16.3.1//NONSGML v1.0//EN
CALSCALE:GREGORIAN
METHOD:PUBLISH
X-WR-CALNAME:Christ the King Fellowship
X-ORIGINAL-URL:http://ctkspencer.org
X-WR-CALDESC:Events for Christ the King Fellowship
BEGIN:VTIMEZONE
TZID:America/New_York
BEGIN:DAYLIGHT
TZOFFSETFROM:-0500
TZOFFSETTO:-0400
TZNAME:EDT
DTSTART:20180311T070000
END:DAYLIGHT
BEGIN:STANDARD
TZOFFSETFROM:-0400
TZOFFSETTO:-0500
TZNAME:EST
DTSTART:20181104T060000
END:STANDARD
END:VTIMEZONE
BEGIN:VEVENT
DTSTART;TZID=America/New_York:20180228T120000
DTEND;TZID=America/New_York:20180228T123000
DTSTAMP:20260420T075912
CREATED:20180214T075458Z
LAST-MODIFIED:20180214T075458Z
UID:404-1519819200-1519821000@ctkspencer.org
SUMMARY:Lenten Service
DESCRIPTION:Join us for worship & fellowship\, including a light lunch!
URL:http://ctkspencer.org/event/lenten-service-2/
LOCATION:Spencer Federated Church\, 70 North Main Street\, Spencer\, NY\, United States
END:VEVENT
END:VCALENDAR