BEGIN:VCALENDAR
VERSION:2.0
PRODID:-//Christ the King Fellowship - ECPv5.16.3.1//NONSGML v1.0//EN
CALSCALE:GREGORIAN
METHOD:PUBLISH
X-WR-CALNAME:Christ the King Fellowship
X-ORIGINAL-URL:http://ctkspencer.org
X-WR-CALDESC:Events for Christ the King Fellowship
BEGIN:VTIMEZONE
TZID:UTC
BEGIN:STANDARD
TZOFFSETFROM:+0000
TZOFFSETTO:+0000
TZNAME:UTC
DTSTART:20180101T000000
END:STANDARD
END:VTIMEZONE
BEGIN:VEVENT
DTSTART;TZID=UTC:20180221T120000
DTEND;TZID=UTC:20180221T123000
DTSTAMP:20260421T014631
CREATED:20171126T003441Z
LAST-MODIFIED:20171126T003441Z
UID:285-1519214400-1519216200@ctkspencer.org
SUMMARY:Prayer (sanctuary)
DESCRIPTION:Need a place to sit?  Somewhere to be quiet?  Want someone to pray with you?  The Church is open.  Welcome.
URL:http://ctkspencer.org/event/prayer-sanctuary-16/
END:VEVENT
END:VCALENDAR