BEGIN:VCALENDAR
VERSION:2.0
PRODID:-//Christ the King Fellowship - ECPv5.16.3.1//NONSGML v1.0//EN
CALSCALE:GREGORIAN
METHOD:PUBLISH
X-WR-CALNAME:Christ the King Fellowship
X-ORIGINAL-URL:http://ctkspencer.org
X-WR-CALDESC:Events for Christ the King Fellowship
BEGIN:VTIMEZONE
TZID:UTC
BEGIN:STANDARD
TZOFFSETFROM:+0000
TZOFFSETTO:+0000
TZNAME:UTC
DTSTART:20170101T000000
END:STANDARD
END:VTIMEZONE
BEGIN:VEVENT
DTSTART;TZID=UTC:20171115T120000
DTEND;TZID=UTC:20171115T123000
DTSTAMP:20260421T102624
CREATED:20171024T071214Z
LAST-MODIFIED:20171024T071214Z
UID:157-1510747200-1510749000@ctkspencer.org
SUMMARY:Prayer (sanctuary)
DESCRIPTION:
URL:http://ctkspencer.org/event/prayer-sanctuary-4/
LOCATION:Christ the King Fellowship Presbyterian Church\, 75 North Main Street\, Spencer\, NY\, 14883
END:VEVENT
END:VCALENDAR