BEGIN:VCALENDAR
VERSION:2.0
PRODID:-//Christ the King Fellowship - ECPv5.16.3.1//NONSGML v1.0//EN
CALSCALE:GREGORIAN
METHOD:PUBLISH
X-WR-CALNAME:Christ the King Fellowship
X-ORIGINAL-URL:http://ctkspencer.org
X-WR-CALDESC:Events for Christ the King Fellowship
BEGIN:VTIMEZONE
TZID:America/New_York
BEGIN:DAYLIGHT
TZOFFSETFROM:-0500
TZOFFSETTO:-0400
TZNAME:EDT
DTSTART:20230312T070000
END:DAYLIGHT
BEGIN:STANDARD
TZOFFSETFROM:-0400
TZOFFSETTO:-0500
TZNAME:EST
DTSTART:20231105T060000
END:STANDARD
END:VTIMEZONE
BEGIN:VEVENT
DTSTART;TZID=America/New_York:20230129T110000
DTEND;TZID=America/New_York:20230129T130000
DTSTAMP:20260419T194331
CREATED:20230128T030347Z
LAST-MODIFIED:20230128T030347Z
UID:2678-1674990000-1674997200@ctkspencer.org
SUMMARY:Sunday Worship
DESCRIPTION:11:00AM worship via Zoom & in-person @ CTK.  \n\nTo join Sunday LINK (use this with computer or smart phone).\nTo phone call: (646) 558-8656 — Mtg ID: 716 939 848 — Password: 050850\n\n\n\n\n\n\n\nTo mail your offering — please send it to either:\n939 S. Danby Rd\, Spencer NY. 14883 OR PO Box 367\, Spencer\, NY. 14883 (you can also drop it by the church during office hours if that’s preferable)\n\n\n\n012923 \n012923 \n  \n“O for a World”    Miriam Therese Winter \nO for a world where everyone respects each other’s ways\,\nwhere love is lived and all is done with justice and with  praise. \nO for a world where goods are shared and misery relieved\,\nwhere truth is spoken\, children spared\, equality achieved. \nWe welcome one world family and struggle with each choice\nthat opens us to unity and gives our vision voice. \nThe poor are rich\, the weak are strong\, the foolish ones are wise.\nTell all who mourn; outcasts belong\, who perishes will rise. \nO for a world preparing for God’s glorious reign of peace\,\nwhere time and tears will be no more\, and all but love will cease. \n\n“I’m Gonna Live So God Can Use Me”       African American Spritual\nI’m gonna live so God can use meAnywhere\, Lord\, anytime.I’m gonna live so God can use meAnywhere\, Lord\, anytime.\n\nI’m gonna work so God can use me…Anywhere\, Lord\, anytime.I’m gonna work so God can use me…Anywhere\, Lord\, anytime.\n\nI’m gonna pray so God can use me…Anywhere\, Lord\, anytime.I’m gonna pray so God can use me…Anywhere\, Lord\, anytime.\n\nI’m gonna sing so God can use me…Anywhere\, Lord\, anytime.I’m gonna sing so God can use me…Anywhere\, Lord\, anytime.
URL:http://ctkspencer.org/event/sunday-worship-22/
END:VEVENT
END:VCALENDAR