BEGIN:VCALENDAR
VERSION:2.0
PRODID:-//Christ the King Fellowship - ECPv5.16.3.1//NONSGML v1.0//EN
CALSCALE:GREGORIAN
METHOD:PUBLISH
X-WR-CALNAME:Christ the King Fellowship
X-ORIGINAL-URL:http://ctkspencer.org
X-WR-CALDESC:Events for Christ the King Fellowship
BEGIN:VTIMEZONE
TZID:America/New_York
BEGIN:DAYLIGHT
TZOFFSETFROM:-0500
TZOFFSETTO:-0400
TZNAME:EDT
DTSTART:20230312T070000
END:DAYLIGHT
BEGIN:STANDARD
TZOFFSETFROM:-0400
TZOFFSETTO:-0500
TZNAME:EST
DTSTART:20231105T060000
END:STANDARD
END:VTIMEZONE
BEGIN:VEVENT
DTSTART;TZID=America/New_York:20230205T110000
DTEND;TZID=America/New_York:20230205T130000
DTSTAMP:20260425T183926
CREATED:20230204T154718Z
LAST-MODIFIED:20230204T154718Z
UID:2685-1675594800-1675602000@ctkspencer.org
SUMMARY:Sunday Worship
DESCRIPTION:11:00AM worship via Zoom & in-person @ CTK.  \n\nTo join Sunday LINK (use this with computer or smart phone).\n\nTo phone call: (646) 558-8656 — Mtg ID: 716 939 848 — Password: 050850   \n\n\n\n\n\n\n\nTo mail your offering — please send it to either: \n939 S. Danby Rd\, Spencer NY. 14883 OR PO Box 367\, Spencer\, NY. 14883 (you can also drop it by the church during office hours if that’s preferable)\n20523bulletin\n20523bulletin\n\n\n\n\n  \n“My Hope Is Built on Nothing Less”             Edward Mote \n1 My hope is built on nothing less\nthan Jesus’ blood and righteousness;\nI dare not trust the sweetest frame\,\nbut wholly lean on Jesus’ name. \nRefrain:\nOn Christ\, the solid Rock\, I stand:\nall other ground is sinking sand;\nall other ground is sinking sand. \n2 When darkness veils his lovely face\,\nI rest on his unchanging grace;\nin every high and stormy gale\,\nmy anchor holds within the veil. [Refrain] \n3 His oath\, his covenant\, his blood\,\nsupport me in the whelming flood;\nwhen all around my soul gives way\,\nhe then is all my hope and stay. [Refrain] \n4 When he shall come with trumpet sound\,\nO may I then in him be found:\ndressed in his righteousness alone\,\nfaultless to stand before the throne. [Refrain] \n\n“Fill My Cup Lord”      by Richard Blanchard ( *the chorus*)\n     Fill my cup\, Lord– I lift it up\, Lord!\n     Come and quench this thirsting of my soul; \n     Bread of heaven\, feed me till I want no more– \n     Fill my cup\, fill it up and make me whole!
URL:http://ctkspencer.org/event/sunday-worship-23/
END:VEVENT
END:VCALENDAR