BEGIN:VCALENDAR
VERSION:2.0
PRODID:-//Christ the King Fellowship - ECPv5.16.3.1//NONSGML v1.0//EN
CALSCALE:GREGORIAN
METHOD:PUBLISH
X-WR-CALNAME:Christ the King Fellowship
X-ORIGINAL-URL:http://ctkspencer.org
X-WR-CALDESC:Events for Christ the King Fellowship
BEGIN:VTIMEZONE
TZID:UTC
BEGIN:STANDARD
TZOFFSETFROM:+0000
TZOFFSETTO:+0000
TZNAME:UTC
DTSTART:20170101T000000
END:STANDARD
END:VTIMEZONE
BEGIN:VEVENT
DTSTART;TZID=UTC:20171207T173000
DTEND;TZID=UTC:20171207T183000
DTSTAMP:20260421T085040
CREATED:20171126T001320Z
LAST-MODIFIED:20171126T001320Z
UID:248-1512667800-1512671400@ctkspencer.org
SUMMARY:Zumba
DESCRIPTION:Come out & move!  It’s good for you!
URL:http://ctkspencer.org/event/zumba-11/
END:VEVENT
END:VCALENDAR