BEGIN:VCALENDAR
VERSION:2.0
PRODID:-//Christ the King Fellowship - ECPv5.16.3.1//NONSGML v1.0//EN
CALSCALE:GREGORIAN
METHOD:PUBLISH
X-WR-CALNAME:Christ the King Fellowship
X-ORIGINAL-URL:http://ctkspencer.org
X-WR-CALDESC:Events for Christ the King Fellowship
BEGIN:VTIMEZONE
TZID:UTC
BEGIN:STANDARD
TZOFFSETFROM:+0000
TZOFFSETTO:+0000
TZNAME:UTC
DTSTART:20170101T000000
END:STANDARD
END:VTIMEZONE
BEGIN:VEVENT
DTSTART;TZID=UTC:20171102T173000
DTEND;TZID=UTC:20171102T183000
DTSTAMP:20260421T120144
CREATED:20171024T065045Z
LAST-MODIFIED:20171024T065045Z
UID:139-1509643800-1509647400@ctkspencer.org
SUMMARY:Zumba (Building use)
DESCRIPTION:
URL:http://ctkspencer.org/event/zumba-building-use-3/
END:VEVENT
END:VCALENDAR