BEGIN:VCALENDAR
VERSION:2.0
PRODID:-//Christ the King Fellowship - ECPv5.16.3.1//NONSGML v1.0//EN
CALSCALE:GREGORIAN
METHOD:PUBLISH
X-WR-CALNAME:Christ the King Fellowship
X-ORIGINAL-URL:http://ctkspencer.org
X-WR-CALDESC:Events for Christ the King Fellowship
BEGIN:VTIMEZONE
TZID:UTC
BEGIN:STANDARD
TZOFFSETFROM:+0000
TZOFFSETTO:+0000
TZNAME:UTC
DTSTART:20170101T000000
END:STANDARD
END:VTIMEZONE
BEGIN:VEVENT
DTSTART;TZID=UTC:20171107T183000
DTEND;TZID=UTC:20171107T193000
DTSTAMP:20260421T164502
CREATED:20171024T065357Z
LAST-MODIFIED:20171024T065357Z
UID:147-1510079400-1510083000@ctkspencer.org
SUMMARY:Zumba (Building use)
DESCRIPTION:
URL:http://ctkspencer.org/event/zumba-building-use-4/
END:VEVENT
END:VCALENDAR