BEGIN:VCALENDAR
VERSION:2.0
PRODID:-//Christ the King Fellowship - ECPv5.16.3.1//NONSGML v1.0//EN
CALSCALE:GREGORIAN
METHOD:PUBLISH
X-WR-CALNAME:Christ the King Fellowship
X-ORIGINAL-URL:http://ctkspencer.org
X-WR-CALDESC:Events for Christ the King Fellowship
BEGIN:VTIMEZONE
TZID:America/New_York
BEGIN:DAYLIGHT
TZOFFSETFROM:-0500
TZOFFSETTO:-0400
TZNAME:EDT
DTSTART:20250309T070000
END:DAYLIGHT
BEGIN:STANDARD
TZOFFSETFROM:-0400
TZOFFSETTO:-0500
TZNAME:EST
DTSTART:20251102T060000
END:STANDARD
END:VTIMEZONE
BEGIN:VEVENT
DTSTART;TZID=America/New_York:20250610T150000
DTEND;TZID=America/New_York:20250610T170000
DTSTAMP:20260419T162331
CREATED:20250618T190357Z
LAST-MODIFIED:20250618T190357Z
UID:3718-1749567600-1749574800@ctkspencer.org
SUMMARY:Community Art Group
DESCRIPTION:Community Art Group beginning! \nLover level of Christ the King Fellowship Presbyterian Church.  Open to all area aspiring & accomplished artists!  This group will provide a place for like-minded individuals to work in their preferred medium in a supportive environment.  Weekly open studios are intended to encourage the pursuit of creativity & to facilitate the sharing of ideas\, talents\, and skills without judgement. \nA limited number of table-top easels & some art supplies available\, otherwise please bring your own art supplies.  Questions or materials need (if warranted) can be directed to Karen @ 589-7616. \n#love
URL:http://ctkspencer.org/event/community-art-group/
END:VEVENT
END:VCALENDAR